BEGIN:VCALENDAR
VERSION:2.0
PRODID:-//Sutton-at-Hone CofE Primary School - ECPv6.15.20//NONSGML v1.0//EN
CALSCALE:GREGORIAN
METHOD:PUBLISH
X-ORIGINAL-URL:https://www.sutton-at-hone.kent.sch.uk
X-WR-CALDESC:Events for Sutton-at-Hone CofE Primary School
REFRESH-INTERVAL;VALUE=DURATION:PT1H
X-Robots-Tag:noindex
X-PUBLISHED-TTL:PT1H
BEGIN:VTIMEZONE
TZID:Europe/London
BEGIN:DAYLIGHT
TZOFFSETFROM:+0000
TZOFFSETTO:+0100
TZNAME:BST
DTSTART:20250330T010000
END:DAYLIGHT
BEGIN:STANDARD
TZOFFSETFROM:+0100
TZOFFSETTO:+0000
TZNAME:GMT
DTSTART:20251026T010000
END:STANDARD
BEGIN:DAYLIGHT
TZOFFSETFROM:+0000
TZOFFSETTO:+0100
TZNAME:BST
DTSTART:20260329T010000
END:DAYLIGHT
BEGIN:STANDARD
TZOFFSETFROM:+0100
TZOFFSETTO:+0000
TZNAME:GMT
DTSTART:20261025T010000
END:STANDARD
BEGIN:DAYLIGHT
TZOFFSETFROM:+0000
TZOFFSETTO:+0100
TZNAME:BST
DTSTART:20270328T010000
END:DAYLIGHT
BEGIN:STANDARD
TZOFFSETFROM:+0100
TZOFFSETTO:+0000
TZNAME:GMT
DTSTART:20271031T010000
END:STANDARD
END:VTIMEZONE
BEGIN:VEVENT
DTSTART;VALUE=DATE:20260601
DTEND;VALUE=DATE:20260602
DTSTAMP:20260420T135743
CREATED:20240905T145222Z
LAST-MODIFIED:20240905T145222Z
UID:15961-1780272000-1780358399@www.sutton-at-hone.kent.sch.uk
SUMMARY:Start of Term 6
DESCRIPTION:
URL:https://www.sutton-at-hone.kent.sch.uk/event/start-of-term-6/
END:VEVENT
BEGIN:VEVENT
DTSTART;TZID=Europe/London:20260618T090000
DTEND;TZID=Europe/London:20260618T100000
DTSTAMP:20260420T135743
CREATED:20260205T121129Z
LAST-MODIFIED:20260205T121129Z
UID:16914-1781773200-1781776800@www.sutton-at-hone.kent.sch.uk
SUMMARY:Algorithm (Year 6) Collective Worship
DESCRIPTION:
URL:https://www.sutton-at-hone.kent.sch.uk/event/algorithm-year-6-collective-worship/
CATEGORIES:Class Worship
END:VEVENT
BEGIN:VEVENT
DTSTART;TZID=Europe/London:20260619T080000
DTEND;TZID=Europe/London:20260619T170000
DTSTAMP:20260420T135743
CREATED:20260224T093532Z
LAST-MODIFIED:20260224T093532Z
UID:16936-1781856000-1781888400@www.sutton-at-hone.kent.sch.uk
SUMMARY:PTA Fathers Day
DESCRIPTION:
URL:https://www.sutton-at-hone.kent.sch.uk/event/pta-fathers-day-2/
END:VEVENT
BEGIN:VEVENT
DTSTART;TZID=Europe/London:20260625T090000
DTEND;TZID=Europe/London:20260625T100000
DTSTAMP:20260420T135743
CREATED:20260205T121220Z
LAST-MODIFIED:20260205T121220Z
UID:16916-1782378000-1782381600@www.sutton-at-hone.kent.sch.uk
SUMMARY:Johnson Class (EYFS) Collective Worship
DESCRIPTION:
URL:https://www.sutton-at-hone.kent.sch.uk/event/johnson-class-eyfs-collective-worship/
CATEGORIES:Class Worship
END:VEVENT
BEGIN:VEVENT
DTSTART;TZID=Europe/London:20260626T080000
DTEND;TZID=Europe/London:20260626T170000
DTSTAMP:20260420T135743
CREATED:20260224T093611Z
LAST-MODIFIED:20260224T093611Z
UID:16938-1782460800-1782493200@www.sutton-at-hone.kent.sch.uk
SUMMARY:PTA Summer Fair
DESCRIPTION:
URL:https://www.sutton-at-hone.kent.sch.uk/event/pta-summer-fair/
END:VEVENT
END:VCALENDAR