BEGIN:VCALENDAR
VERSION:2.0
PRODID:-//Sutton-at-Hone CofE Primary School - ECPv6.15.20//NONSGML v1.0//EN
CALSCALE:GREGORIAN
METHOD:PUBLISH
X-ORIGINAL-URL:https://www.sutton-at-hone.kent.sch.uk
X-WR-CALDESC:Events for Sutton-at-Hone CofE Primary School
REFRESH-INTERVAL;VALUE=DURATION:PT1H
X-Robots-Tag:noindex
X-PUBLISHED-TTL:PT1H
BEGIN:VTIMEZONE
TZID:Europe/London
BEGIN:DAYLIGHT
TZOFFSETFROM:+0000
TZOFFSETTO:+0100
TZNAME:BST
DTSTART:20250330T010000
END:DAYLIGHT
BEGIN:STANDARD
TZOFFSETFROM:+0100
TZOFFSETTO:+0000
TZNAME:GMT
DTSTART:20251026T010000
END:STANDARD
BEGIN:DAYLIGHT
TZOFFSETFROM:+0000
TZOFFSETTO:+0100
TZNAME:BST
DTSTART:20260329T010000
END:DAYLIGHT
BEGIN:STANDARD
TZOFFSETFROM:+0100
TZOFFSETTO:+0000
TZNAME:GMT
DTSTART:20261025T010000
END:STANDARD
BEGIN:DAYLIGHT
TZOFFSETFROM:+0000
TZOFFSETTO:+0100
TZNAME:BST
DTSTART:20270328T010000
END:DAYLIGHT
BEGIN:STANDARD
TZOFFSETFROM:+0100
TZOFFSETTO:+0000
TZNAME:GMT
DTSTART:20271031T010000
END:STANDARD
END:VTIMEZONE
BEGIN:VEVENT
DTSTART;VALUE=DATE:20260504
DTEND;VALUE=DATE:20260505
DTSTAMP:20260420T122042
CREATED:20240905T145456Z
LAST-MODIFIED:20240905T145456Z
UID:15976-1777852800-1777939199@www.sutton-at-hone.kent.sch.uk
SUMMARY:Bank Holiday
DESCRIPTION:No Pupils in school
URL:https://www.sutton-at-hone.kent.sch.uk/event/bank-holiday-5/
END:VEVENT
BEGIN:VEVENT
DTSTART;VALUE=DATE:20260512
DTEND;VALUE=DATE:20260513
DTSTAMP:20260420T122042
CREATED:20260116T115504Z
LAST-MODIFIED:20260116T115504Z
UID:16896-1778544000-1778630399@www.sutton-at-hone.kent.sch.uk
SUMMARY:Year 5 | Science Museum
DESCRIPTION:
URL:https://www.sutton-at-hone.kent.sch.uk/event/year-5-science-museum/
END:VEVENT
BEGIN:VEVENT
DTSTART;TZID=Europe/London:20260520T080000
DTEND;TZID=Europe/London:20260522T170000
DTSTAMP:20260420T122042
CREATED:20260116T115536Z
LAST-MODIFIED:20260116T115536Z
UID:16898-1779264000-1779469200@www.sutton-at-hone.kent.sch.uk
SUMMARY:Year 6 | PGL
DESCRIPTION:
URL:https://www.sutton-at-hone.kent.sch.uk/event/year-6-pgl/
END:VEVENT
BEGIN:VEVENT
DTSTART;VALUE=DATE:20260522
DTEND;VALUE=DATE:20260523
DTSTAMP:20260420T122042
CREATED:20240905T145238Z
LAST-MODIFIED:20240905T145238Z
UID:15966-1779408000-1779494399@www.sutton-at-hone.kent.sch.uk
SUMMARY:End of Term 5
DESCRIPTION:
URL:https://www.sutton-at-hone.kent.sch.uk/event/end-of-term-5-2/
END:VEVENT
END:VCALENDAR