BEGIN:VCALENDAR
VERSION:2.0
PRODID:-//Sutton-at-Hone CofE Primary School - ECPv6.15.20//NONSGML v1.0//EN
CALSCALE:GREGORIAN
METHOD:PUBLISH
X-WR-CALNAME:Sutton-at-Hone CofE Primary School
X-ORIGINAL-URL:https://www.sutton-at-hone.kent.sch.uk
X-WR-CALDESC:Events for Sutton-at-Hone CofE Primary School
REFRESH-INTERVAL;VALUE=DURATION:PT1H
X-Robots-Tag:noindex
X-PUBLISHED-TTL:PT1H
BEGIN:VTIMEZONE
TZID:Europe/London
BEGIN:DAYLIGHT
TZOFFSETFROM:+0000
TZOFFSETTO:+0100
TZNAME:BST
DTSTART:20220327T010000
END:DAYLIGHT
BEGIN:STANDARD
TZOFFSETFROM:+0100
TZOFFSETTO:+0000
TZNAME:GMT
DTSTART:20221030T010000
END:STANDARD
BEGIN:DAYLIGHT
TZOFFSETFROM:+0000
TZOFFSETTO:+0100
TZNAME:BST
DTSTART:20230326T010000
END:DAYLIGHT
BEGIN:STANDARD
TZOFFSETFROM:+0100
TZOFFSETTO:+0000
TZNAME:GMT
DTSTART:20231029T010000
END:STANDARD
BEGIN:DAYLIGHT
TZOFFSETFROM:+0000
TZOFFSETTO:+0100
TZNAME:BST
DTSTART:20240331T010000
END:DAYLIGHT
BEGIN:STANDARD
TZOFFSETFROM:+0100
TZOFFSETTO:+0000
TZNAME:GMT
DTSTART:20241027T010000
END:STANDARD
BEGIN:DAYLIGHT
TZOFFSETFROM:+0000
TZOFFSETTO:+0100
TZNAME:BST
DTSTART:20250330T010000
END:DAYLIGHT
BEGIN:STANDARD
TZOFFSETFROM:+0100
TZOFFSETTO:+0000
TZNAME:GMT
DTSTART:20251026T010000
END:STANDARD
BEGIN:DAYLIGHT
TZOFFSETFROM:+0000
TZOFFSETTO:+0100
TZNAME:BST
DTSTART:20260329T010000
END:DAYLIGHT
BEGIN:STANDARD
TZOFFSETFROM:+0100
TZOFFSETTO:+0000
TZNAME:GMT
DTSTART:20261025T010000
END:STANDARD
END:VTIMEZONE
BEGIN:VEVENT
DTSTART;VALUE=DATE:20250723
DTEND;VALUE=DATE:20250724
DTSTAMP:20260421T170417
CREATED:20240109T080341Z
LAST-MODIFIED:20240730T075149Z
UID:15683-1753228800-1753315199@www.sutton-at-hone.kent.sch.uk
SUMMARY:Last Day of Term 6
DESCRIPTION:
URL:https://www.sutton-at-hone.kent.sch.uk/event/last-day-of-term-6/
CATEGORIES:Term Dates
END:VEVENT
BEGIN:VEVENT
DTSTART;VALUE=DATE:20250707
DTEND;VALUE=DATE:20250708
DTSTAMP:20260421T170417
CREATED:20231129T145840Z
LAST-MODIFIED:20240730T075325Z
UID:15286-1751846400-1751932799@www.sutton-at-hone.kent.sch.uk
SUMMARY:Inset Day
DESCRIPTION:School Closed
URL:https://www.sutton-at-hone.kent.sch.uk/event/inset-day/
CATEGORIES:Term Dates
END:VEVENT
BEGIN:VEVENT
DTSTART;VALUE=DATE:20250602
DTEND;VALUE=DATE:20250603
DTSTAMP:20260421T170417
CREATED:20231129T151016Z
LAST-MODIFIED:20240730T075203Z
UID:15316-1748822400-1748908799@www.sutton-at-hone.kent.sch.uk
SUMMARY:Back to School Term 6
DESCRIPTION:
URL:https://www.sutton-at-hone.kent.sch.uk/event/back-to-school-term-6/
CATEGORIES:Term Dates
END:VEVENT
BEGIN:VEVENT
DTSTART;VALUE=DATE:20250505
DTEND;VALUE=DATE:20250506
DTSTAMP:20260421T170417
CREATED:20231129T150115Z
LAST-MODIFIED:20240730T075338Z
UID:15302-1746403200-1746489599@www.sutton-at-hone.kent.sch.uk
SUMMARY:Bank Holiday
DESCRIPTION:School Closed
URL:https://www.sutton-at-hone.kent.sch.uk/event/school-closed-14/
CATEGORIES:Term Dates
END:VEVENT
BEGIN:VEVENT
DTSTART;VALUE=DATE:20250422
DTEND;VALUE=DATE:20250423
DTSTAMP:20260421T170417
CREATED:20231129T151518Z
LAST-MODIFIED:20240730T075135Z
UID:15321-1745280000-1745366399@www.sutton-at-hone.kent.sch.uk
SUMMARY:Back to School - Term 5
DESCRIPTION:
URL:https://www.sutton-at-hone.kent.sch.uk/event/back-to-school-term-5/
CATEGORIES:Term Dates
END:VEVENT
BEGIN:VEVENT
DTSTART;VALUE=DATE:20250314
DTEND;VALUE=DATE:20250315
DTSTAMP:20260421T170417
CREATED:20231129T145914Z
LAST-MODIFIED:20240730T075303Z
UID:15294-1741910400-1741996799@www.sutton-at-hone.kent.sch.uk
SUMMARY:Trust Day (Inset Day)
DESCRIPTION:School Closed
URL:https://www.sutton-at-hone.kent.sch.uk/event/trust-day/
CATEGORIES:Term Dates
END:VEVENT
BEGIN:VEVENT
DTSTART;VALUE=DATE:20250214
DTEND;VALUE=DATE:20250215
DTSTAMP:20260421T170417
CREATED:20240108T162126Z
LAST-MODIFIED:20240730T075119Z
UID:15678-1739491200-1739577599@www.sutton-at-hone.kent.sch.uk
SUMMARY:Last Day of Term 3
DESCRIPTION:
URL:https://www.sutton-at-hone.kent.sch.uk/event/last-day-of-term-3-2/
CATEGORIES:Term Dates
END:VEVENT
BEGIN:VEVENT
DTSTART;VALUE=DATE:20250107
DTEND;VALUE=DATE:20250108
DTSTAMP:20260421T170417
CREATED:20231129T160704Z
LAST-MODIFIED:20240730T075104Z
UID:15353-1736208000-1736294399@www.sutton-at-hone.kent.sch.uk
SUMMARY:Back to School - Term 3
DESCRIPTION:
URL:https://www.sutton-at-hone.kent.sch.uk/event/back-to-school-term-3/
CATEGORIES:Term Dates
END:VEVENT
BEGIN:VEVENT
DTSTART;VALUE=DATE:20250106
DTEND;VALUE=DATE:20250107
DTSTAMP:20260421T170417
CREATED:20231129T145929Z
LAST-MODIFIED:20240730T075249Z
UID:15295-1736121600-1736207999@www.sutton-at-hone.kent.sch.uk
SUMMARY:Inset Day
DESCRIPTION:School Closed
URL:https://www.sutton-at-hone.kent.sch.uk/event/school-closed-9/
CATEGORIES:Term Dates
END:VEVENT
BEGIN:VEVENT
DTSTART;VALUE=DATE:20241023
DTEND;VALUE=DATE:20241024
DTSTAMP:20260421T170417
CREATED:20231129T150127Z
LAST-MODIFIED:20240730T075231Z
UID:15303-1729641600-1729727999@www.sutton-at-hone.kent.sch.uk
SUMMARY:INSET Day
DESCRIPTION:School Closed
URL:https://www.sutton-at-hone.kent.sch.uk/event/school-closed-15/
CATEGORIES:Term Dates
END:VEVENT
BEGIN:VEVENT
DTSTART;VALUE=DATE:20240902
DTEND;VALUE=DATE:20240903
DTSTAMP:20260421T170417
CREATED:20240109T080437Z
LAST-MODIFIED:20240730T075216Z
UID:15687-1725235200-1725321599@www.sutton-at-hone.kent.sch.uk
SUMMARY:Inset Day
DESCRIPTION:
URL:https://www.sutton-at-hone.kent.sch.uk/event/inset-day-2/
CATEGORIES:Term Dates
END:VEVENT
BEGIN:VEVENT
DTSTART;VALUE=DATE:20240720
DTEND;VALUE=DATE:20240902
DTSTAMP:20260421T170417
CREATED:20240109T080413Z
LAST-MODIFIED:20240109T080413Z
UID:15685-1721433600-1725235199@www.sutton-at-hone.kent.sch.uk
SUMMARY:Summer Holidays
DESCRIPTION:
URL:https://www.sutton-at-hone.kent.sch.uk/event/summer-holidays/
CATEGORIES:Term Dates
END:VEVENT
BEGIN:VEVENT
DTSTART;VALUE=DATE:20240525
DTEND;VALUE=DATE:20240603
DTSTAMP:20260421T170417
CREATED:20240109T080239Z
LAST-MODIFIED:20240109T080239Z
UID:15681-1716595200-1717372799@www.sutton-at-hone.kent.sch.uk
SUMMARY:School Holiday
DESCRIPTION:
URL:https://www.sutton-at-hone.kent.sch.uk/event/school-holiday/
CATEGORIES:Term Dates
END:VEVENT
BEGIN:VEVENT
DTSTART;VALUE=DATE:20240506
DTEND;VALUE=DATE:20240507
DTSTAMP:20260421T170417
CREATED:20231129T150114Z
LAST-MODIFIED:20240108T165806Z
UID:15299-1714953600-1715039999@www.sutton-at-hone.kent.sch.uk
SUMMARY:Bank Holiday
DESCRIPTION:School Closed
URL:https://www.sutton-at-hone.kent.sch.uk/event/bank-holiday-3/
CATEGORIES:Term Dates
END:VEVENT
BEGIN:VEVENT
DTSTART;TZID=Europe/London:20240402T000000
DTEND;TZID=Europe/London:20240414T000000
DTSTAMP:20260421T170417
CREATED:20231129T145929Z
LAST-MODIFIED:20240109T080038Z
UID:15298-1712016000-1713052800@www.sutton-at-hone.kent.sch.uk
SUMMARY:School Holiday
DESCRIPTION:
URL:https://www.sutton-at-hone.kent.sch.uk/event/school-closed-12/
CATEGORIES:Term Dates
END:VEVENT
BEGIN:VEVENT
DTSTART;VALUE=DATE:20240401
DTEND;VALUE=DATE:20240402
DTSTAMP:20260421T170417
CREATED:20231129T145929Z
LAST-MODIFIED:20231129T152750Z
UID:15297-1711929600-1712015999@www.sutton-at-hone.kent.sch.uk
SUMMARY:Easter Monday
DESCRIPTION:School Closed
URL:https://www.sutton-at-hone.kent.sch.uk/event/school-closed-11/
CATEGORIES:Term Dates
END:VEVENT
BEGIN:VEVENT
DTSTART;VALUE=DATE:20240329
DTEND;VALUE=DATE:20240330
DTSTAMP:20260421T170418
CREATED:20231129T145929Z
LAST-MODIFIED:20240108T165559Z
UID:15296-1711670400-1711756799@www.sutton-at-hone.kent.sch.uk
SUMMARY:Good Friday
DESCRIPTION:School Closed
URL:https://www.sutton-at-hone.kent.sch.uk/event/good-friday/
CATEGORIES:School,Term Dates
END:VEVENT
BEGIN:VEVENT
DTSTART;VALUE=DATE:20240219
DTEND;VALUE=DATE:20240220
DTSTAMP:20260421T170418
CREATED:20231129T154025Z
LAST-MODIFIED:20231129T154025Z
UID:15334-1708300800-1708387199@www.sutton-at-hone.kent.sch.uk
SUMMARY:First Day of Term 4
DESCRIPTION:
URL:https://www.sutton-at-hone.kent.sch.uk/event/first-day-of-term-4/
CATEGORIES:Term Dates
END:VEVENT
BEGIN:VEVENT
DTSTART;VALUE=DATE:20240210
DTEND;VALUE=DATE:20240219
DTSTAMP:20260421T170418
CREATED:20240111T150429Z
LAST-MODIFIED:20240111T150510Z
UID:15696-1707523200-1708300799@www.sutton-at-hone.kent.sch.uk
SUMMARY:February Half-Term
DESCRIPTION:
URL:https://www.sutton-at-hone.kent.sch.uk/event/february-half-term/
CATEGORIES:Term Dates
END:VEVENT
BEGIN:VEVENT
DTSTART;VALUE=DATE:20240209
DTEND;VALUE=DATE:20240210
DTSTAMP:20260421T170418
CREATED:20231129T154225Z
LAST-MODIFIED:20231129T154237Z
UID:15336-1707436800-1707523199@www.sutton-at-hone.kent.sch.uk
SUMMARY:Last Day of Term 3
DESCRIPTION:
URL:https://www.sutton-at-hone.kent.sch.uk/event/last-day-of-term-3/
CATEGORIES:Term Dates
END:VEVENT
BEGIN:VEVENT
DTSTART;TZID=Europe/London:20231221T000000
DTEND;TZID=Europe/London:20240104T000000
DTSTAMP:20260421T170418
CREATED:20231129T145840Z
LAST-MODIFIED:20231129T161203Z
UID:15285-1703116800-1704326400@www.sutton-at-hone.kent.sch.uk
SUMMARY:Holiday
DESCRIPTION:School Closed
URL:https://www.sutton-at-hone.kent.sch.uk/event/school-closed-6/
CATEGORIES:Term Dates
END:VEVENT
END:VCALENDAR